BEGIN:VCALENDAR
VERSION:2.0
PRODID:-//Pay It Forward Now - ECPv6.15.20//NONSGML v1.0//EN
CALSCALE:GREGORIAN
METHOD:PUBLISH
X-ORIGINAL-URL:https://www.pifn.org
X-WR-CALDESC:Events for Pay It Forward Now
REFRESH-INTERVAL;VALUE=DURATION:PT1H
X-Robots-Tag:noindex
X-PUBLISHED-TTL:PT1H
BEGIN:VTIMEZONE
TZID:America/Halifax
BEGIN:DAYLIGHT
TZOFFSETFROM:-0400
TZOFFSETTO:-0300
TZNAME:ADT
DTSTART:20180311T060000
END:DAYLIGHT
BEGIN:STANDARD
TZOFFSETFROM:-0300
TZOFFSETTO:-0400
TZNAME:AST
DTSTART:20181104T050000
END:STANDARD
BEGIN:DAYLIGHT
TZOFFSETFROM:-0400
TZOFFSETTO:-0300
TZNAME:ADT
DTSTART:20190310T060000
END:DAYLIGHT
BEGIN:STANDARD
TZOFFSETFROM:-0300
TZOFFSETTO:-0400
TZNAME:AST
DTSTART:20191103T050000
END:STANDARD
BEGIN:DAYLIGHT
TZOFFSETFROM:-0400
TZOFFSETTO:-0300
TZNAME:ADT
DTSTART:20200308T060000
END:DAYLIGHT
BEGIN:STANDARD
TZOFFSETFROM:-0300
TZOFFSETTO:-0400
TZNAME:AST
DTSTART:20201101T050000
END:STANDARD
END:VTIMEZONE
BEGIN:VEVENT
DTSTART;TZID=America/Halifax:20190518T080000
DTEND;TZID=America/Halifax:20190518T130000
DTSTAMP:20260424T231719
CREATED:20190520T115912Z
LAST-MODIFIED:20190520T115912Z
UID:3723-1558166400-1558184400@www.pifn.org
SUMMARY:HHC -- training hike HHC "Run w/the Foxes!" 5k-8m-10m-13.1m run/volunteer/sweep+de-flag
DESCRIPTION:https://www.hoosierhikerscouncil.org/run-with-the-foxes/\n[link has directions at bottom] \nRunners/hikers — well\, you’re just doing it *because*\, right? Sure. We know. \nBut “Volunteers!!” Volunteers receive bad food\, mumbled compliments from out-of-breath runners\, lower back pain from too much standing\, possibly poison ivy\, definite exposure to tick-borne illness\, AND the coolest of tech-shirts *designed*by* MBA member Terz! How’s THAT for a bargain?? If you come out on course with me (to Sweep and De-Flag the whole business)\, you’ll have an excuse to speed-hike ≥13.1 miles in 80°F humidity!!! WOOT!!! (You can’t get much better training for summer than that\, can you?!? No!) \nWhether you’re going to run\, work an aid station\, or sweep\, ‘sign up’ here so we know to look for you and send a shout-out on course. If you’re desiring to volunteer\, please indicate that too — we’ll need to cap that [at 6?] so we don’t overwhelm HHC with good intentions. \nFWIW\, last year’s run was also in 80°F weather and I finished sweep/de-flag duties gloriously covered in salt — it set me up for a *fine* and fit summer of training. I’m expecting the same on Saturday. \nAny questions: sing out!
URL:https://www.pifn.org/event/hhc-training-hike-hhc-run-w-the-foxes-5k-8m-10m-13-1m-run-volunteer-sweepde-flag/
LOCATION:Cherry Lake Shelter MMSF\, 6230 Forest Road\, Martinsville\, in\, 46151\, us
CATEGORIES:3rd Party Events,Hoosier Hikers Council
END:VEVENT
END:VCALENDAR