BEGIN:VCALENDAR
VERSION:2.0
PRODID:-//Pay It Forward Now - ECPv6.15.20//NONSGML v1.0//EN
CALSCALE:GREGORIAN
METHOD:PUBLISH
X-ORIGINAL-URL:https://www.pifn.org
X-WR-CALDESC:Events for Pay It Forward Now
REFRESH-INTERVAL;VALUE=DURATION:PT1H
X-Robots-Tag:noindex
X-PUBLISHED-TTL:PT1H
BEGIN:VTIMEZONE
TZID:America/Halifax
BEGIN:DAYLIGHT
TZOFFSETFROM:-0400
TZOFFSETTO:-0300
TZNAME:ADT
DTSTART:20180311T060000
END:DAYLIGHT
BEGIN:STANDARD
TZOFFSETFROM:-0300
TZOFFSETTO:-0400
TZNAME:AST
DTSTART:20181104T050000
END:STANDARD
BEGIN:DAYLIGHT
TZOFFSETFROM:-0400
TZOFFSETTO:-0300
TZNAME:ADT
DTSTART:20190310T060000
END:DAYLIGHT
BEGIN:STANDARD
TZOFFSETFROM:-0300
TZOFFSETTO:-0400
TZNAME:AST
DTSTART:20191103T050000
END:STANDARD
BEGIN:DAYLIGHT
TZOFFSETFROM:-0400
TZOFFSETTO:-0300
TZNAME:ADT
DTSTART:20200308T060000
END:DAYLIGHT
BEGIN:STANDARD
TZOFFSETFROM:-0300
TZOFFSETTO:-0400
TZNAME:AST
DTSTART:20201101T050000
END:STANDARD
END:VTIMEZONE
BEGIN:VTIMEZONE
TZID:America/New_York
BEGIN:DAYLIGHT
TZOFFSETFROM:-0500
TZOFFSETTO:-0400
TZNAME:EDT
DTSTART:20180311T070000
END:DAYLIGHT
BEGIN:STANDARD
TZOFFSETFROM:-0400
TZOFFSETTO:-0500
TZNAME:EST
DTSTART:20181104T060000
END:STANDARD
BEGIN:DAYLIGHT
TZOFFSETFROM:-0500
TZOFFSETTO:-0400
TZNAME:EDT
DTSTART:20190310T070000
END:DAYLIGHT
BEGIN:STANDARD
TZOFFSETFROM:-0400
TZOFFSETTO:-0500
TZNAME:EST
DTSTART:20191103T060000
END:STANDARD
BEGIN:DAYLIGHT
TZOFFSETFROM:-0500
TZOFFSETTO:-0400
TZNAME:EDT
DTSTART:20200308T070000
END:DAYLIGHT
BEGIN:STANDARD
TZOFFSETFROM:-0400
TZOFFSETTO:-0500
TZNAME:EST
DTSTART:20201101T060000
END:STANDARD
END:VTIMEZONE
BEGIN:VEVENT
DTSTART;TZID=America/Halifax:20190810T093000
DTEND;TZID=America/Halifax:20190810T153000
DTSTAMP:20260424T200817
CREATED:20190721T233325Z
LAST-MODIFIED:20190808T180329Z
UID:4061-1565429400-1565451000@www.pifn.org
SUMMARY:KHTA -- 2nd Weekend Work Day Trail Building
DESCRIPTION:Would you to spend a day in some beautiful woods with a delightful group of people building a connecting section of Indiana’s premier long distance hiking trail? Come\njoin us as we work on an easement near Sparksville. We meet at the Park at the edge of town. \nPlease bring a lunch and water. We will have large hand tools\, but please bring any small tools you have such as clippers or a pruning saw. And a backpack is handy to carry everything in. Instructions will be provided for those who need them. We finish about 3:30. \nJoin us on our website at http://www.knobstonehikingtrail.org/ and on Facebook at http://www.facebook.com/pages/Knobstone-Hiking-Trail-Association .
URL:https://www.pifn.org/event/khta-2nd-weekend-work-day-trail-building-6/
LOCATION:Sparksville Park\, 0 Dalton Holler Rd\, Sparksville\, IN\, us
CATEGORIES:3rd Party Events,Knobstone Hiking Trail Association
END:VEVENT
BEGIN:VEVENT
DTSTART;TZID=America/Halifax:20190713T093000
DTEND;TZID=America/Halifax:20190713T153000
DTSTAMP:20260424T200817
CREATED:20190622T003920Z
LAST-MODIFIED:20190622T003920Z
UID:3919-1563010200-1563031800@www.pifn.org
SUMMARY:KHTA -- 2nd Weekend Work Day Trail Building
DESCRIPTION:Would you to spend a day in some beautiful woods with a delightful group of people building a connecting section of Indiana’s premier long distance hiking trail? Come\njoin us as we work on an easement near Sparksville. We meet at the Park at the edge of town. \nPlease bring a lunch and water. We will have large hand tools\, but please bring any small tools you have such as clippers or a pruning saw. And a backpack is handy to carry everything in. Instructions will be provided for those who need them. We finish about 3:30. \nJoin us on our website at http://www.knobstonehikingtrail.org/ and on Facebook at http://www.facebook.com/pages/Knobstone-Hiking-Trail-Association .
URL:https://www.pifn.org/event/khta-2nd-weekend-work-day-trail-building-5/
LOCATION:Sparksville Park\, 0 Dalton Holler Rd\, Sparksville\, IN\, us
CATEGORIES:3rd Party Events,Knobstone Hiking Trail Association
END:VEVENT
BEGIN:VEVENT
DTSTART;TZID=America/Halifax:20190608T093000
DTEND;TZID=America/Halifax:20190608T153000
DTSTAMP:20260424T200817
CREATED:20190520T120531Z
LAST-MODIFIED:20190606T164516Z
UID:3737-1559986200-1560007800@www.pifn.org
SUMMARY:KHTA -- 2nd Weekend Work Day Trail Building
DESCRIPTION:Would you to spend a day in some beautiful woods with a delightful group of people building a connecting section of Indiana’s premier long distance hiking trail? Come join us as we work on the northern most section in Martinsville\, on the Zollman easement near Sparksville. We meet at the Sparksville Park. Please bring a lunch and water. We will have large hand tools\, but please bring any small tools you have such as clippers or a pruning saw and maybe a backpack to put them in. Instructions will be provided for those who need them. We finish about 3:30. \nJoin us on our website at http://www.knobstonehikingtrail.org/ and on Facebook at http://www.facebook.com/pages/Knobstone-Hiking-Trail-Association .
URL:https://www.pifn.org/event/khta-2nd-weekend-work-day-trail-building-4/
LOCATION:Sparksville Park\, 0 Dalton Holler Rd\, Sparksville\, IN\, us
CATEGORIES:3rd Party Events,Knobstone Hiking Trail Association
END:VEVENT
BEGIN:VEVENT
DTSTART;TZID=America/Halifax:20190601T213000
DTEND;TZID=America/Halifax:20190601T233000
DTSTAMP:20260424T200817
CREATED:20190520T120506Z
LAST-MODIFIED:20190530T163153Z
UID:3736-1559424600-1559431800@www.pifn.org
SUMMARY:National Trails Day Hike
DESCRIPTION:Come join us for a hike to celebrate National Trails Day. We meet at the Northern Trailhead of the Knobstone Hiking Trail in Martinsville at 9:30 and hike up our easement at the Martinsville Sportsmen Conservation Club through the Morgan Monroe State Forest around Prather Lake. This is a rugged but interesting hike. Hope you can join us!
URL:https://www.pifn.org/event/khta-national-trails-day-hike/
LOCATION:J W Johns Building\, Burton Lane\, Martinsville\, IN\, us
CATEGORIES:3rd Party Events,Knobstone Hiking Trail Association
END:VEVENT
BEGIN:VEVENT
DTSTART;TZID=America/Halifax:20190511T093000
DTEND;TZID=America/Halifax:20190511T153000
DTSTAMP:20260424T200817
CREATED:20190419T121540Z
LAST-MODIFIED:20190509T160033Z
UID:3578-1557567000-1557588600@www.pifn.org
SUMMARY:KHTA -- 2nd Weekend Work Day Trail Building
DESCRIPTION:Would you like to spend a day in some beautiful woods with a delightful group of people building a connecting section of Indiana’s premier long distance hiking trail? Come join us as we work on the northern most section in Martinsville\, on the Zollman easement near Sparksville. We meet at the Sparksville Park. Please bring a lunch and water. We will have large hand tools\, but please bring any small tools you have such as clippers or a pruning saw and maybe a backpack to put them in. Instructions will be provided for those who need them. We finish about 3:30. \nJoin us on our website at http://www.knobstonehikingtrail.org/ and on Facebook at http://www.facebook.com/pages/Knobstone-Hiking-Trail-Association .
URL:https://www.pifn.org/event/khta-2nd-weekend-work-day-trail-building-3/
LOCATION:Sparksville Park\, 0 Dalton Holler Rd\, Sparksville\, IN\, us
CATEGORIES:3rd Party Events,Knobstone Hiking Trail Association
END:VEVENT
BEGIN:VEVENT
DTSTART;TZID=America/Halifax:20190413T093000
DTEND;TZID=America/Halifax:20190413T153000
DTSTAMP:20260424T200817
CREATED:20190321T175105Z
LAST-MODIFIED:20190411T160021Z
UID:3405-1555147800-1555169400@www.pifn.org
SUMMARY:KHTA -- 2nd Weekend Work Day Trail Building
DESCRIPTION:Would you to spend a day in some beautiful woods with a delightful group of people building a connecting section of Indiana’s premier long distance hiking trail? Come join us as we work on the northern most section in Martinsville\, on the Zollman easement near Sparksville. Please bring a lunch and water. We will have large hand tools\, but please bring any small tools you have such as clippers or a pruning saw and maybe a backpack to put them in. Instructions will be provided for those who need them. We finish about 3:30. \nJoin us on our website at http://www.knobstonehikingtrail.org/ and on Facebook at http://www.facebook.com/pages/Knobstone-Hiking-Trail-Association .
URL:https://www.pifn.org/event/khta-2nd-weekend-work-day-trail-building-2/
LOCATION:Sparksville Park\, 0 Dalton Holler Rd\, Sparksville\, IN\, us
CATEGORIES:3rd Party Events,Knobstone Hiking Trail Association
END:VEVENT
BEGIN:VEVENT
DTSTART;TZID=America/Halifax:20190316T110000
DTEND;TZID=America/Halifax:20190316T150000
DTSTAMP:20260424T200817
CREATED:20190307T143049Z
LAST-MODIFIED:20190314T152202Z
UID:3312-1552734000-1552748400@www.pifn.org
SUMMARY:KHTA 6TH ANNUAL MEETING
DESCRIPTION:3/16/19MORGAN-MONROE S.F.FIRE HQ: Training Center \nMEETING: 11 am Year Review + meet your fellow members + informal talk with speaker + trail talk.LUNCH: Noon; pitch-in; main dish\, drinks\, utensils providedPROGRAM: 1 pm: Speaker Kenny Hale\, County Commissioner and former Morgan County Planning Director and park/trail czar on: The Future of Trails in Morgan County and Beyond.HIKE: Following the meeting.
URL:https://www.pifn.org/event/khta-6th-annual-meeting/
LOCATION:Morgan Monroe State Forest\, 6220 Forest Road\, Martinsville\, IN\, us
CATEGORIES:3rd Party Events,Knobstone Hiking Trail Association
END:VEVENT
BEGIN:VEVENT
DTSTART;TZID=America/New_York:20190309T093000
DTEND;TZID=America/New_York:20190309T153000
DTSTAMP:20260424T200817
CREATED:20190307T142713Z
LAST-MODIFIED:20190307T142713Z
UID:3310-1552123800-1552145400@www.pifn.org
SUMMARY:KHTA -- 2nd Weekend Work Day Trail Building
DESCRIPTION:Would you to spend a day in some beautiful woods with a delightful group of people building a connecting section of Indiana’s premier long distance hiking trail? Come join us as we work on the Zollman easement near Sparksville. Please bring a lunch and water. We will have large hand tools\, but please bring any small tools you have such as clippers or a hand saw. Instructions will be provided for those who need them. We finish about 3:30. We meet at the park in Sparksville. \nJoin us on our website at http://www.knobstonehikingtrail.org/ and on Facebook at http://www.facebook.com/pages/Knobstone-Hiking-Trail-Association .
URL:https://www.pifn.org/event/khta-2nd-weekend-work-day-trail-building/
LOCATION:Sparksville Park\, 0 Dalton Holler Rd\, Sparksville\, IN\, us
CATEGORIES:3rd Party Events,Knobstone Hiking Trail Association
END:VEVENT
END:VCALENDAR