BEGIN:VCALENDAR
VERSION:2.0
PRODID:-//Pay It Forward Now - ECPv6.15.20//NONSGML v1.0//EN
CALSCALE:GREGORIAN
METHOD:PUBLISH
X-ORIGINAL-URL:https://www.pifn.org
X-WR-CALDESC:Events for Pay It Forward Now
REFRESH-INTERVAL;VALUE=DURATION:PT1H
X-Robots-Tag:noindex
X-PUBLISHED-TTL:PT1H
BEGIN:VTIMEZONE
TZID:America/Indiana/Indianapolis
BEGIN:DAYLIGHT
TZOFFSETFROM:-0500
TZOFFSETTO:-0400
TZNAME:EDT
DTSTART:20160313T070000
END:DAYLIGHT
BEGIN:STANDARD
TZOFFSETFROM:-0400
TZOFFSETTO:-0500
TZNAME:EST
DTSTART:20161106T060000
END:STANDARD
BEGIN:DAYLIGHT
TZOFFSETFROM:-0500
TZOFFSETTO:-0400
TZNAME:EDT
DTSTART:20170312T070000
END:DAYLIGHT
BEGIN:STANDARD
TZOFFSETFROM:-0400
TZOFFSETTO:-0500
TZNAME:EST
DTSTART:20171105T060000
END:STANDARD
BEGIN:DAYLIGHT
TZOFFSETFROM:-0500
TZOFFSETTO:-0400
TZNAME:EDT
DTSTART:20180311T070000
END:DAYLIGHT
BEGIN:STANDARD
TZOFFSETFROM:-0400
TZOFFSETTO:-0500
TZNAME:EST
DTSTART:20181104T060000
END:STANDARD
END:VTIMEZONE
BEGIN:VEVENT
DTSTART;TZID=America/Indiana/Indianapolis:20170909T090000
DTEND;TZID=America/Indiana/Indianapolis:20170909T160000
DTSTAMP:20260424T171023
CREATED:20170815T035800Z
LAST-MODIFIED:20170829T041551Z
UID:1162-1504947600-1504972800@www.pifn.org
SUMMARY:RR--Rifle Qualification “Grinder” – One Day (Crawfordsville\, IN)
DESCRIPTION:Rifle Qualification “Grinder” Overview\nPrerequisites: Rifle 125 (or equivalent) required. \nEquipment: Bring at least 400 rounds of ammunition and a safe rifle (round count will depend on how many Rifle Qualifiers you shoot. You may shoot as much or as little as you want throughout the day\, but you may have the opportunity to shoot as many as 600+ rounds). Shooting will be at 25 yards. \nBring your centerfire rifle\, rimfire rifle\, carbine\, bolt-action\, automatic\, with open sights\, a scope\, a red dot or all of the above if you want. \nOverview: This is a new event offering for those that have attended our Rifle 125 and wish to continue working on their marksmanship skills. We will be running our 25 yard Rifle Qualifier throughout the day without the usual instruction and history that is common to our other events. Except for a quick rifle zeroing target in the morning\, this event will be back-to-back 25 yard Rifle Qualifiers. \nThis is your opportunity to work on earning a rifle patch or improve upon the patch you earned at a previous Rifle 125 event. This is also a good opportunity to test your skills with a different rifle\, or a different sight\, or left handed\, or in different clothing\, or… ? \nAdditional Event Information\nYou are not required to stay the entire day (shoot just one Rifle Qualifier and call it “good enough” if that is what you want to do) but you MUST be present for the range safety instructions first thing in the morning. \n 
URL:https://www.pifn.org/event/rr-rifle-qualification-grinder-one-day-crawfordsville-in/
LOCATION:Crawfordsville Gun Club\, 3225 State Road 47 North\, Crawfordsville\, IN\, 47933\, United States
CATEGORIES:3rd Party Events,Events In Indiana,Revere's Riders,Special Event
ORGANIZER;CN="Alan &#8220%3BATM&#8221%3B":MAILTO:alanmetsker@yahoo.com
END:VEVENT
END:VCALENDAR