BEGIN:VCALENDAR
VERSION:2.0
PRODID:-//Pay It Forward Now - ECPv6.15.20//NONSGML v1.0//EN
CALSCALE:GREGORIAN
METHOD:PUBLISH
X-WR-CALNAME:Pay It Forward Now
X-ORIGINAL-URL:https://www.pifn.org
X-WR-CALDESC:Events for Pay It Forward Now
REFRESH-INTERVAL;VALUE=DURATION:PT1H
X-Robots-Tag:noindex
X-PUBLISHED-TTL:PT1H
BEGIN:VTIMEZONE
TZID:America/Chicago
BEGIN:DAYLIGHT
TZOFFSETFROM:-0600
TZOFFSETTO:-0500
TZNAME:CDT
DTSTART:20180311T080000
END:DAYLIGHT
BEGIN:STANDARD
TZOFFSETFROM:-0500
TZOFFSETTO:-0600
TZNAME:CST
DTSTART:20181104T070000
END:STANDARD
BEGIN:DAYLIGHT
TZOFFSETFROM:-0600
TZOFFSETTO:-0500
TZNAME:CDT
DTSTART:20190310T080000
END:DAYLIGHT
BEGIN:STANDARD
TZOFFSETFROM:-0500
TZOFFSETTO:-0600
TZNAME:CST
DTSTART:20191103T070000
END:STANDARD
BEGIN:DAYLIGHT
TZOFFSETFROM:-0600
TZOFFSETTO:-0500
TZNAME:CDT
DTSTART:20200308T080000
END:DAYLIGHT
BEGIN:STANDARD
TZOFFSETFROM:-0500
TZOFFSETTO:-0600
TZNAME:CST
DTSTART:20201101T070000
END:STANDARD
END:VTIMEZONE
BEGIN:VTIMEZONE
TZID:America/Indiana/Indianapolis
BEGIN:DAYLIGHT
TZOFFSETFROM:-0500
TZOFFSETTO:-0400
TZNAME:EDT
DTSTART:20160313T070000
END:DAYLIGHT
BEGIN:STANDARD
TZOFFSETFROM:-0400
TZOFFSETTO:-0500
TZNAME:EST
DTSTART:20161106T060000
END:STANDARD
BEGIN:DAYLIGHT
TZOFFSETFROM:-0500
TZOFFSETTO:-0400
TZNAME:EDT
DTSTART:20170312T070000
END:DAYLIGHT
BEGIN:STANDARD
TZOFFSETFROM:-0400
TZOFFSETTO:-0500
TZNAME:EST
DTSTART:20171105T060000
END:STANDARD
BEGIN:DAYLIGHT
TZOFFSETFROM:-0500
TZOFFSETTO:-0400
TZNAME:EDT
DTSTART:20180311T070000
END:DAYLIGHT
BEGIN:STANDARD
TZOFFSETFROM:-0400
TZOFFSETTO:-0500
TZNAME:EST
DTSTART:20181104T060000
END:STANDARD
END:VTIMEZONE
BEGIN:VEVENT
DTSTART;TZID=America/Chicago:20191102T120000
DTEND;TZID=America/Chicago:20191102T170000
DTSTAMP:20260424T115509
CREATED:20191021T014354Z
LAST-MODIFIED:20191031T235146Z
UID:4503-1572696000-1572714000@www.pifn.org
SUMMARY:Introduction to Pheasant Hunting
DESCRIPTION:Pay it Forward Now will host an Introduction to Pheasant Hunting. Donations are accepted\, but there is no cost for the event. If you are an experienced hunter and want to introduce a friend to the sport\, or a new hunter this is the event for you. We will have a quick safety talk\, and discussion about pheasant hunting. We have a place to practice on some clay pigeons for those that want to. We will provide guides\, dogs\, and if needed shotguns and ammo. The event will be held at Prairie Grove Hunting Preserve in Brazil\, IN. Feel free to reach out to Brett Thompson with questions. 317-417-4287 brett@pifn.org Space is limited and we will be having people show up at staggered times. More details to follow. RSVP is required to be able to attend by 10/23
URL:https://www.pifn.org/event/introduction-to-pheasant-hunting/
LOCATION:Prairie Grove Hunting Preserve\, 2768 North 425 West\, Brazil\, IN\, 47834\, United States
CATEGORIES:Hunting,PIFN Events
ATTACH;FMTTYPE=image/jpeg:https://www.pifn.org/wp-content/uploads/2017/03/two-men-and-a-black-dog-hunting_1244x700px.jpg
ORGANIZER;CN="Brett Thompson":MAILTO:brett@fnbft.com
END:VEVENT
BEGIN:VEVENT
DTSTART;TZID=America/Indiana/Indianapolis:20170930T083000
DTEND;TZID=America/Indiana/Indianapolis:20170930T163000
DTSTAMP:20260424T115509
CREATED:20170630T160945Z
LAST-MODIFIED:20170927T151943Z
UID:658-1506760200-1506789000@www.pifn.org
SUMMARY:PIFN--Camp Atterbury "Pop Up Target" Pistol Event (Sept 30\, 2017)
DESCRIPTION:Event Overview\nPrerequisites\nAt this event you may fire from either the “low ready” or draw from a holster. Less experienced shooters are encouraged to fire from the “low ready” while shooters who have had previous training in correctly drawing from a holster may do so if they wish. Drawing from a holster (or even having a holster for your handgun) is not a requirement to participate in this event. However\, we expect all participants to abide by the following suggested prerequisites: \n\n\n\nFiring from “low ready”: familiarity with range safety rules and ability to shoot safely (a previous NRA Basic Pistol\, Revere’s Riders Pistol 100 course or similar training from another organization is sufficient).\nDrawing from a holster: drawing from a holster will be allowed at this event. However\, there will be some limitations on the holster:\n\nthe holster must fit your handgun—this means that your handgun should correctly fit in the holster and that the trigger is completely covered when your handgun is holstered.\nno “appendix”\, “small of the back”\, “cross draw” or “shoulder” holsters will be allowed—there are 10 firing positions at the range we will be using and it is nearly impossible to use these types of holsters without “flagging” someone else either on or behind the firing line. The holster you use for the event should position your handgun in the 3 to 4 o’clock position on the strong side of your belt.\nuse an appropriate belt to support your holster and handgun—you should have a belt that is capable of supporting the weight of your holster and firearm. Most general purpose belts aren’t up to this; your waist will thank you for using a belt designed to support your holster and handgun.\n\n\n\n\n\nAdditionally\, you should have previous experience in drawing from a holster if you plan to do so at this event. We will not be teaching you how to correctly draw from a holster; if your draw technique is deemed to be unsafe by the event RSOs\, you will be asked to discontinue drawing from a holster and to fire from the low ready instead. \nRequired Equipment\nThe following equipment will be required: \n\n\n\na safe handgun (centerfire is preferred\, but rimfire will also work)\na minimum of 400 rounds of ammunition in the correct caliber for your handgun (bring more ammunition if you have it; the last thing you want is to run out before the day is over).\neye protection\near protection\nsufficient magazines or “moon clips” for your handgun (4 is a good minimum for this event; if you have a low-capacity handgun\, bring more)\n\n\n\nOptional Equipment\nOptional equipment that will likely increase your enjoyment of this event includes: \n\n\n\nmagazine loading tool (Maglula or similar)—you will be loading a LOT of magazines during this event and having a magazine loading tool will lessen the strain on your thumb.\na folding chair and something to provide shade from the sun (the range is out in the open with limited shelter)\nsunscreen and/or bug spray\na hat with a brim to protect from the sun and hot brass\nplenty of your preferred method of hydration. Both plain water and something to replace the electrolytes you will lose via sweating is ideal.\nsnacks\n\n\n\nMinimal Instruction\nThis will not be an instructional event but rather a special opportunity to shoot on the same range used by Navy Seals\, Special Forces\, Army Rangers\, etc. We will have a safety briefing before any live fire occurs to ensure everyone is aware of the safety rules in place for the event. Once the safety briefing is complete\, there will be minimal breaks in order to maximize rounds down range. \nEvent Details\nThe range consists of electronically controlled “pop-up” targets that can be programmed to raise/lower in a myriad of sequences and with varying degrees of difficulty for the shooter. This range is normally not accessible to the general public; this is a very unique opportunity to experience the same training environment as some of our nation’s most elite soldiers. \nAs such\, you should be comfortable with your handgun in order to attend this event; this will be an opportunity to apply skills that you have learned in previous handgun training courses. Shooting will be from a fixed position (i.e.\, no movement while on the firing line). Drawing from a holster will be allowed but you should obviously be proficient and comfortable with doing so; drawing from a holster will not be a required part of this event (i.e.\, you may complete each course of fire starting from the “low ready” position). Movement will be allowed it will be one step to the right or the left. This is an opportunity to practice your defensive skills. \nWhile there will be no formal instruction at this event\, experienced firearms instructors will be present at the event and will provide limited instruction as needed. However\, this is not a training event and participants should not expect to receive extensive instruction. \nShooters will be assigned two per lane on the firing line (we are happy to pair you up with a friend if you desire). This will allow one shooter to be on the firing line while the other is reloading magazines as needed. \nThe course of fire for one session will generally consist of around 5 programmed sequences of the “pop-up” targets. Each sequence will in turn consist of one or multiple targets being presented for a given duration; targets are knocked down by a hit in the “kill” zone (center of mass or head area). Targets remain standing if only struck in the “hit” zone (everything not in the “kill” zone) and disappear at the end of the programmed duration. Each sequence will consist of multiple target presentations. Shooters will rotate at the end of each session. \nEven though we are on a military range\, participants should feel free to “sit out” a rotation if they wish. \nThere will be a morning and\, if demand is sufficient\, an afternoon session. We are selling the morning session first; if and when that session fills\, we will open ticket sales for the afternoon session. There will be 20 tickets available for each session for a maximum of 40 participants across both sessions. \nNot sure if this is the event for you? Watch the below video from our June 2017 event at the same range to get a better idea of what this event entails: \n \nMore photos and videos are available at the Camp Atterbury Pistol Event June 2017 photo and video galleries. \nImportant Additional Event Information\nPre-registration is Required\nAll participants must purchase tickets by the DEADLINE of 5:00 PM EDT on September 27th.  Absolutely no registrations will be allowed after this deadline.\n \nThe unique venue for this event requires that your personal information (name\, address and phone number) be provided to Camp Atterbury Joint Maneuver Training Center (CAJMTC) and subsequently shared with Military Police and the Range Control office. Your information will not be used in any manner other than to allow your admittance to the installation and to contact you regarding this event. Pre-registration is required so that we can forward your information to CAJMTC in time for the event. \nYou are also responsible for reading the below additional range information specific to Camp Atterbury. Please keep in mind that we are using a military facility and military rules and discipline are in force. Camp Atterbury is an active military installation and military activities take priority over civilian activities; as such we may have our scheduled access removed at any time\, up to and including the day of the event. \nRefund Policy\nRefunds will only be issued for this event due to cancellation of the event by military authorities. Absolutely no refunds will be given for any other reason. \nLunch\nAn optional pulled pork lunch along with smoked baked beans and chips will be made available; lunch tickets are per person. If you prefer\, you can bring your own sack lunch (don’t plan to leave CAJMTC for lunch as there will not be sufficient time). \nAdditional Range Information\nIf you are in the “Morning Session”\, please plan to arrive no later than 8:30 AM Eastern Daylight Time at Range Control on the Camp Atterbury grounds (the guards at the entrance gate can direct you to Range Control if you have not previously been to Camp Atterbury). \nIf you are in the “Afternoon Session”\, please plan to arrive no later than 12:30 PM Eastern Daylight Time at Range Control on the Camp Atterbury grounds (the guards at the entrance gate can direct you to Range Control if you have not previously been to Camp Atterbury). If you purchased lunch and are in the “Afternoon Session”\, plan to arrive no later than 12:00 PM Eastern Daylight Time to allow time to eat lunch before the event begins at 1:00 PM Eastern Daylight Time. \nWe are only allowed to proceed as a group to the range itself due to the numerous “hot” ranges that we must pass along the way (making a wrong turn onto a range being actively used by A-10 Warthogs to practice strafing would not be a “good thing”). \nArriving early will allow us to get started promptly at 9:00 AM EDT in the morning and 1:00PM EDT in the afternoon. \nPlease be aware of the time difference if you are coming from the Central time zone; 8:30 AM EDT is 7:30 AM CDT and 12:30PM EDT is 11:30AM CDT. \nEvent Sponsor\n\nAlan Alcorn of A&A Optics in Richmond\, IN has graciously donated some swag to be given away at this event. In addition\, Alan has donated a Grand Prize for the overall top shooter.
URL:https://www.pifn.org/event/2017-sept-30-camp-atterbury/
LOCATION:Camp Atterbury Joint Maneuver Training Center\, County Rd 800 S\, Edinburg\, IN\, 46131\, United States
CATEGORIES:Firearms,PIFN Events
ATTACH;FMTTYPE=image/jpeg:https://www.pifn.org/wp-content/uploads/2017/06/June-10-2017-at-10-39-34.jpg
ORGANIZER;CN="Brett Thompson":MAILTO:brett@fnbft.com
END:VEVENT
BEGIN:VEVENT
DTSTART;TZID=America/Indiana/Indianapolis:20170909T100000
DTEND;TZID=America/Indiana/Indianapolis:20170909T140000
DTSTAMP:20260424T115509
CREATED:20170908T133204Z
LAST-MODIFIED:20170908T133514Z
UID:1698-1504951200-1504965600@www.pifn.org
SUMMARY:PIFN-Canoe Training at Boones Pond
DESCRIPTION:Event Overview\nIf you’re interested in attending a Pay It Forward Now canoeing event but have never been in a canoe\, this event will teach you the basics of flat water canoeing. We will do a safety talk and training on shore and then let you paddle the pond. \nWe start at 10 AM and should finish by 2 PM at the latest. \nRequired Equipment\nYou should bring the following: \n\nclosed toe shoes that can get dirty and wet (“water shoes” are great; “flip flops” are not)\nsunscreen\nwater\nsnacks\nhat\nchange of dry clothes\ngood attitude
URL:https://www.pifn.org/event/pifn-canoe-training-at-boones-pond/
LOCATION:Boones Pond\, 3936 S 400 E\, Lebanon\, 46052\, United States
CATEGORIES:PIFN Events,Water Adventure
ATTACH;FMTTYPE=image/jpeg:https://www.pifn.org/wp-content/uploads/2017/07/canoe_4_cropped.jpg
ORGANIZER;CN="Brett Thompson":MAILTO:brett@fnbft.com
END:VEVENT
BEGIN:VEVENT
DTSTART;TZID=America/Indiana/Indianapolis:20170813T130000
DTEND;TZID=America/Indiana/Indianapolis:20170813T180000
DTSTAMP:20260424T115509
CREATED:20170721T160107Z
LAST-MODIFIED:20170815T133700Z
UID:742-1502629200-1502647200@www.pifn.org
SUMMARY:PIFN--White Rock Park/St. Paul Cliffs
DESCRIPTION:Event Overview\nThis will be an afternoon getaway for the whole family. \nWhite Rock Park/St. Paul Cliffs is a unique water recreation park built around three abandoned quarries that are now water filled. One quarry is dedicated to swimming and also includes: \n\n\n\nfour diving platforms (highest is 10 meters)\nfloating rafts for relaxing\nrope swing\ntwo zip lines\nscuba diving (you must have your own equipment and be certified)\n\n\n\nThe other two quarries are reserved for fishing\, one of which is stocked with channel catfish. The Flat Rock River is also on the property. \nSwimming rates are as follows: \n\n\n\n$15 per person per day (10 years old and up)\n$12 per person per day (6-9 years old)\nFREE for 5 years old and under\n\n\n\nFishing rates are: \n\n\n\n$12 per person per 12 hour session (2 pole limit\, 5 fish limit)\n\n\n\nSuba diving rates are: \n\n\n\n$15 per person per day (includes swimming)\nmust provide your own gear and air tanks (White Rock Park does not fill air tanks)\n\n\n\nNote that all fees are CASH ONLY. \nAlso note the general rules for White Rock Park: \n\n\n\nno glass bottles\nno hard alcohol\nno pets\nno fireworks\nno firearms\nno knives\nno foul/vulgar language\nno loud music\n\n\n\nIf you are interested in joining us for this event\, please contact Brett Thompson.
URL:https://www.pifn.org/event/2017-aug-13-white-rock-park/
LOCATION:White Rock Park/St. Paul Cliffs\, 7080 S 750 E\, St. Paul\, IN\, 47272\, United States
CATEGORIES:PIFN Events,Water Adventure
ATTACH;FMTTYPE=image/jpeg:https://www.pifn.org/wp-content/uploads/2017/07/st_paul_cliffs_2.jpg
ORGANIZER;CN="Brett Thompson":MAILTO:brett@fnbft.com
END:VEVENT
BEGIN:VEVENT
DTSTART;TZID=America/Indiana/Indianapolis:20170708T080000
DTEND;TZID=America/Indiana/Indianapolis:20170708T170000
DTSTAMP:20260424T115509
CREATED:20170630T155716Z
LAST-MODIFIED:20170815T133716Z
UID:656-1499500800-1499533200@www.pifn.org
SUMMARY:PIFN--Canoe Trip from Laurel to Metamora
DESCRIPTION:7 Miles on the Whitewater River. It is not white water but flows better than average for Indiana. Usually we see a bald eagle on the trip. We meet and put in at the Laurel Feeder Dam. Contact Brett with questions 317-417-4287 or brett@fnbft.com. This takes most of the day if you are coming from Indy\, but you should be home by dinner. Wear old shoes you can get wet. Closed toe shoes. Bring Sunscreen\, water\, snacks\, lunch\, bag that will keep them dry. (ziplocks work usually) We have a limited number of extra canoes if you can help pull the trailer they are on.
URL:https://www.pifn.org/event/canoe-trip-from-laurel-to-metamora/
LOCATION:IN
CATEGORIES:PIFN Events,Water Adventure
ORGANIZER;CN="Brett Thompson":MAILTO:brett@fnbft.com
END:VEVENT
BEGIN:VEVENT
DTSTART;TZID=America/Indiana/Indianapolis:20170618T080000
DTEND;TZID=America/Indiana/Indianapolis:20170623T170000
DTSTAMP:20260424T115509
CREATED:20170321T090556Z
LAST-MODIFIED:20170815T133732Z
UID:105-1497772800-1498237200@www.pifn.org
SUMMARY:PIFN--2017 Dad's Camp
DESCRIPTION:We take boys and help them become young men. We spend a Sunday through Friday camping. Each boy either brings a mentor or we work to provide one. This year we are at Obannon Woods State Park. We will be swimming\, shooting\, hiking\, and mountain biking. There will be devotionals that the kids will lead. The boys do the cooking. They will be divided into teams and we will have several team building exercises. We use the book\, “Raising a Modern Day Knight” as a template. We have been doing this for 12 years and it is a highlight of the year for the boys and their mentors.
URL:https://www.pifn.org/event/2017-dads-camp/
LOCATION:O’Bannon Woods State Park\, 7234 Old Forest Road SW\, Corydon\, IN\, 47112\, United States
CATEGORIES:Dad's Camp,PIFN Events
ORGANIZER;CN="Brett Thompson":MAILTO:brett@fnbft.com
END:VEVENT
END:VCALENDAR