BEGIN:VCALENDAR
VERSION:2.0
PRODID:-//Pay It Forward Now - ECPv6.15.20//NONSGML v1.0//EN
CALSCALE:GREGORIAN
METHOD:PUBLISH
X-WR-CALNAME:Pay It Forward Now
X-ORIGINAL-URL:https://www.pifn.org
X-WR-CALDESC:Events for Pay It Forward Now
REFRESH-INTERVAL;VALUE=DURATION:PT1H
X-Robots-Tag:noindex
X-PUBLISHED-TTL:PT1H
BEGIN:VTIMEZONE
TZID:America/Indiana/Indianapolis
BEGIN:DAYLIGHT
TZOFFSETFROM:-0500
TZOFFSETTO:-0400
TZNAME:EDT
DTSTART:20160313T070000
END:DAYLIGHT
BEGIN:STANDARD
TZOFFSETFROM:-0400
TZOFFSETTO:-0500
TZNAME:EST
DTSTART:20161106T060000
END:STANDARD
BEGIN:DAYLIGHT
TZOFFSETFROM:-0500
TZOFFSETTO:-0400
TZNAME:EDT
DTSTART:20170312T070000
END:DAYLIGHT
BEGIN:STANDARD
TZOFFSETFROM:-0400
TZOFFSETTO:-0500
TZNAME:EST
DTSTART:20171105T060000
END:STANDARD
BEGIN:DAYLIGHT
TZOFFSETFROM:-0500
TZOFFSETTO:-0400
TZNAME:EDT
DTSTART:20180311T070000
END:DAYLIGHT
BEGIN:STANDARD
TZOFFSETFROM:-0400
TZOFFSETTO:-0500
TZNAME:EST
DTSTART:20181104T060000
END:STANDARD
BEGIN:DAYLIGHT
TZOFFSETFROM:-0500
TZOFFSETTO:-0400
TZNAME:EDT
DTSTART:20190310T070000
END:DAYLIGHT
BEGIN:STANDARD
TZOFFSETFROM:-0400
TZOFFSETTO:-0500
TZNAME:EST
DTSTART:20191103T060000
END:STANDARD
BEGIN:DAYLIGHT
TZOFFSETFROM:-0500
TZOFFSETTO:-0400
TZNAME:EDT
DTSTART:20200308T070000
END:DAYLIGHT
BEGIN:STANDARD
TZOFFSETFROM:-0400
TZOFFSETTO:-0500
TZNAME:EST
DTSTART:20201101T060000
END:STANDARD
END:VTIMEZONE
BEGIN:VEVENT
DTSTART;TZID=America/Indiana/Indianapolis:20190518T080000
DTEND;TZID=America/Indiana/Indianapolis:20190519T170000
DTSTAMP:20260424T213844
CREATED:20190419T121338Z
LAST-MODIFIED:20190516T092415Z
UID:3564-1558166400-1558285200@www.pifn.org
SUMMARY:RR -- Free Rifle 125 (Basic Rifle) – Two Day (Richmond\, IN)
DESCRIPTION:This will be a special event sponsored by A&A Optics; attend both days of the event and A&A Optics will reimburse your ticket cost making the event FREE! \nRifle 125 (Basic Rifle) Overview\nPrerequisites: None \nEstimated Ammunition Required: About 200 rounds/day. \nRifle Requirements: You will need a safe rifle chambered in your preferred caliber (loaner rifles are generally available; if you need a loaner rifle\, please indicate such when filling out your ticket information). Magazine-fed semi-automatic rifles generally work best for our classes\, but any other type of rifle (tube-fed semi-automatic\, lever-action\, bolt-action\, etc.) can be used as well. Bring whatever rifle you have and we will work with you. \nSome events will have caliber limitations due to restrictions imposed upon us by the range hosting the event. \nRequired Equipment: You should plan to bring the following equipment to the event: \n\nat least two magazines for your rifle\na way to take notes\nhearing protection\neye protection\nplenty of your preferred method of hydration (both plain water and something to replace electrolytes you will lose via sweating is ideal)\nclothing appropriate for the weather (loose fitting clothing\, especially around the neck\, is discouraged as hot brass can lodge against the skin and cause a burn)\n\nIt is helpful that all ammunition be of the same type (i.e. same weight\, manufacturer\, etc) for this event. Our volunteers have identified several accessories that may be helpful at this type of event. Shooting will primarily be at 25 yards. At some facilities\, it may be possible to move out to longer distances\, but a rimfire rifle should be just fine for all activities. \nOptional Equipment: The following equipment is not required but may come in handy at the event: \n\nsling for your rifle (a US GI sling is preferred; loaner slings are typically available at the event)\nshooting mat\, carpet remnant or similar\nhat with a brim (to deflect flying hot brass)\nfolding chair\nlunch\nsnacks\nsunscreen and/or bug spray\n\nOverview: This is our signature offering\, based on traditional American riflecraft that teaches “Hits Count!” It is appropriate for a wide breadth of student skill levels. This course lays a sound foundation for students to shoot groups under time pressure from a variety of practical field positions. Rifle 125 includes classroom and range time learning to shoot rifles. Students learn: \n\nRules for safe gun handling & range rules\nRifle parts and operation & ammunition\nShooting fundamentals: Five steps to firing each shot\nNatural Point of Aim\nShooting from the prone\, standing and sitting/kneeling positions to include use of the sling\nIntroduction to Sight Adjustments and basic calculation of minutes of angle\n25 Yard “Morgan’s 13” Classifier\n25 Yard Rifle Qualifier\nTwo Day Only: Intermediate calculation of minutes of angle for precise sight adjustments at all ranges\nTwo Day Only: Introduction to Field Shooting\, to include basic ballistics and live firing to longer distances (if the range facility permits)\nTwo Day Only: As time allows\, there may be additional opportunities to engage in challenging competitions to include the Rifle Qualifier\, Classic Carbine Qualification\, Battle Rattle\, and/or Field Shoot\n\nThe Midnight Ride of Paul Revere\nHear the true story of Paul Revere’s famous ride and learn about the events that immediately precipitated the Revolutionary War. Paul Revere did not ride alone – many individuals played crucial roles in the events of April 19th\, 1775. \nThis history presentation begins with alarm riders warning “the Regulars are out!” You’ll hear about the dramatic stand on Lexington Green and the “shots heard ’round the world” at Concord’s North Bridge. The tale concludes with harrowing life-or-death choices made along the 17 mile “battle road.” \nThis exciting tale will be woven throughout the day’s marksmanship events. \nLunch\nAlan would like everyone to know that his Boy Scout troop will be cooking hot dogs and burgers at the event for a nominal additional cost (exact details on what will be available will be provided closer to the event). Get a hot lunch and help out the Boy Scouts! \nEvent Sponsor\n\n\n \n\n\nA&A Optics is graciously sponsoring this event and will reimburse each participant for their ticket purchase provided they attend both days of the event.
URL:https://www.pifn.org/event/rr-free-rifle-125-basic-rifle-two-day-richmond-in/
LOCATION:A&A Optics Range\, 1522 E 350 N\, Liberty\, IN\, 47353\, United States
CATEGORIES:3rd Party Events,Events In Indiana,Revere's Riders,Rifle 125 (hits Count!)
ATTACH;FMTTYPE=image/png:https://www.pifn.org/wp-content/uploads/2019/04/aa_optics_logo_black.png
ORGANIZER;CN="Jake Woodcock (308Jake)":MAILTO:jake@reveresriders.org
END:VEVENT
BEGIN:VEVENT
DTSTART;TZID=America/Indiana/Indianapolis:20190504T080000
DTEND;TZID=America/Indiana/Indianapolis:20190505T170000
DTSTAMP:20260424T213844
CREATED:20190408T121926Z
LAST-MODIFIED:20190503T103503Z
UID:3464-1556956800-1557075600@www.pifn.org
SUMMARY:RR -- Rifle 125 (Basic Rifle) – Two Day (Bedford\, IN)
DESCRIPTION:Rifle 125 (Basic Rifle) Overview\nPrerequisites: None \nEstimated Ammunition Required: About 200 rounds/day. \nRifle Requirements: You will need a safe rifle chambered in your preferred caliber (loaner rifles are generally available; if you need a loaner rifle\, please indicate such when filling out your ticket information). Magazine-fed semi-automatic rifles generally work best for our classes\, but any other type of rifle (tube-fed semi-automatic\, lever-action\, bolt-action\, etc.) can be used as well. Bring whatever rifle you have and we will work with you. Some events will have caliber limitations due to restrictions imposed upon us by the range hosting the event. \nRequired Equipment: You should plan to bring the following equipment to the event: \n\nat least two magazines for your rifle\na way to take notes\nhearing protection\neye protection\nplenty of your preferred method of hydration (both plain water and something to replace electrolytes you will lose via sweating is ideal)\nclothing appropriate for the weather (loose fitting clothing\, especially around the neck\, is discouraged as hot brass can lodge against the skin and cause a burn)\n\nIt is helpful that all ammunition be of the same type (i.e. same weight\, manufacturer\, etc) for this event. Our volunteers have identified several accessories that may be helpful at this type of event. Shooting will primarily be at 25 yards. At some facilities\, it may be possible to move out to longer distances\, but a rimfire rifle should be just fine for all activities. \nOptional Equipment: The following equipment is not required but may come in handy at the event: \n\nsling for your rifle (a US GI sling is preferred; loaner slings are typically available at the event)\nshooting mat\, carpet remnant or similar\nhat with a brim (to deflect flying hot brass)\nfolding chair\nlunch\nsnacks\nsunscreen and/or bug spray\n\nOverview: This is our signature offering\, based on traditional American riflecraft that teaches “Hits Count!” It is appropriate for a wide breadth of student skill levels. This course lays a sound foundation for students to shoot groups under time pressure from a variety of practical field positions. Rifle 125 includes classroom and range time learning to shoot rifles. Students learn: \n\nRules for safe gun handling & range rules\nRifle parts and operation & ammunition\nShooting fundamentals: Five steps to firing each shot\nNatural Point of Aim\nShooting from the prone\, standing and sitting/kneeling positions to include use of the sling\nIntroduction to Sight Adjustments and basic calculation of minutes of angle\n25 Yard “Morgan’s 13” Classifier\n25 Yard Rifle Qualifier\nTwo Day Only: Intermediate calculation of minutes of angle for precise sight adjustments at all ranges\nTwo Day Only: Introduction to Field Shooting\, to include basic ballistics and live firing to longer distances (if the range facility permits)\nTwo Day Only: As time allows\, there may be additional opportunities to engage in challenging competitions to include the Rifle Qualifier\, Classic Carbine Qualification\, Battle Rattle\, and/or Field Shoot\n\nThe Midnight Ride of Paul Revere\nHear the true story of Paul Revere’s famous ride and learn about the events that immediately precipitated the Revolutionary War. Paul Revere did not ride alone – many individuals played crucial roles in the events of April 19th\, 1775. This history presentation begins with alarm riders warning “the Regulars are out!” You’ll hear about the dramatic stand on Lexington Green and the “shots heard ’round the world” at Concord’s North Bridge. The tale concludes with harrowing life-or-death choices made along the 17 mile “battle road.” This exciting tale will be woven throughout the day’s marksmanship events. \nAdditional Event Information\nTicket price includes all range fees\, delicious lunch and refreshments on both days. \nAdditional Range Information\nThe Bedford Contingent is South Central Indiana’s Premier Shooting Facility. Located just north of Bedford\, Indiana\, “The BC” features a 300-yd rifle range\, covered meeting house\, and is available year-round for public and private events. Primitive camping available (please reserve ahead of time\, donation appreciated)\, porta-potties and potable water on-site. \nWin a Copy of “Paul Revere’s Ride”\nOur history presentations are based on “Paul Revere’s Ride” by David Hackett Fischer\, a thoroughly researched recounting of the events leading up to the historic skirmishes between Patriots and Red Coats at Concord and Lexington on April 19\, 1775. \n\n“The true story of Paul Revere’s ride is very different from the popular myth of the lone rider of the Revolution…This is a tale of contingency\, with great events hanging in the narrow balance. It is the story of free people\, making hard choices. Most of all\, it is about America’s half-remembered heritage of collective action in the cause of freedom. When Paul Revere and his many friends alarmed the Middlesex countryside\, they were carrying that message for us.” \n\nWe will be giving away a softcover copy of “Paul Revere’s Ride” to one lucky participant at this event.
URL:https://www.pifn.org/event/rr-rifle-125-basic-rifle-two-day-bedford-in-2/
LOCATION:The Bedford Contingent\, 3650 Springville-Judah Road\, Bedford\, IN\, 47421\, United States
CATEGORIES:3rd Party Events,Events In Indiana,Revere's Riders,Rifle 125 (hits Count!)
ATTACH;FMTTYPE=image/jpeg:https://www.pifn.org/wp-content/uploads/2019/04/featured_bedford_april_2017.jpeg
ORGANIZER;CN="AJ &#8220%3Bol&#8217%3B Huff&#8221%3B":MAILTO:IN@ReveresRiders.org
END:VEVENT
BEGIN:VEVENT
DTSTART;TZID=America/Indiana/Indianapolis:20171202T080000
DTEND;TZID=America/Indiana/Indianapolis:20171203T170000
DTSTAMP:20260424T213844
CREATED:20170815T035800Z
LAST-MODIFIED:20171128T060104Z
UID:1174-1512201600-1512320400@www.pifn.org
SUMMARY:RR--Rifle 125 (Basic Rifle) – Two Day (Dec 2-3\, 2017\, Nashville\, IN)
DESCRIPTION:Rifle 125 (Basic Rifle) Overview\nPrerequisites: None \nEquipment: Bring 150 to 200 rounds of ammunition per day and a safe rifle.  It is helpful that all ammunition be of the same type (i.e. same weight\, manufacturer\, etc) for this event.  Our volunteers have identified several accessories that may be helpful at this type of event.   Shooting will primarily be at 25 yards.  At some facilities\, it may be possible to move out to longer distances\, but a rimfire rifle should be just fine for all activities. \nOverview:  This our signature offering\, based on traditional American riflecraft that teaches “Hits Count!” It is appropriate for a wide breadth of student skill levels. This course lays a sound foundation for students to shoot groups under time pressure from a variety of practical field positions.  Rifle 125 includes classroom and range time learning to shoot rifles. Students learn: \n\nRules for safe gun handling & range rules\nRifle parts and operation & ammunition\nShooting fundamentals: Five steps to firing each shot\nNatural Point of Aim\nShooting from the prone\, standing and sitting/kneeling positions to include use of the sling\nIntroduction to Sight Adjustments and basic calculation of minutes of angle\n25 Yard “Morgan’s 13” Classifier\n25 Yard Rifle Qualifier\nTwo Day Only:  Intermediate calculation of minutes of angle for precise sight adjustments at all ranges\nTwo Day Only:  Introduction to Field Shooting\, to include basic ballistics and live firing to longer distances (if the range facility permits)\nTwo Day Only:  As time allows\, there may be additional opportunities to engage in challenging competitions to include the Rifle Qualifier\, Classic Carbine Qualification\, Battle Rattle\, and/or Field Shoot\n\nThe Midnight Ride of Paul Revere\nHear the true story of Paul Revere’s famous ride and learn about the events that immediately precipitated the Revolutionary War. Paul Revere did not ride alone – many individuals played crucial roles in the events of April 19th\, 1775. \nThis history presentation begins with alarm riders warning “the Regulars are out!” You’ll hear about the dramatic stand on Lexington Green and the “shots heard ’round the world” at Concord’s North Bridge. The tale concludes with harrowing life-or-death choices made along the 17 mile “battle road.” \nThis exciting tale will be woven throughout the day’s marksmanship events. \nAdditional Event Information\n\nWe will have a fire going for the entire weekend so if you get cold out on the range you can take a break and warm up.\nBe sure to bring a lunch as restaurants in Columbus and Nashville are not close enough to visit without missing instruction and history presentations that are given during the lunch break.\nOn Saturday\, we will provide supplies for making S’Mores (yum!).\nIf you have one\, bring your centerfire rifle for the Known Distance (KD) segment on Sunday afternoon.\n\n 
URL:https://www.pifn.org/event/rr-rifle-125-basic-rifle-two-day-nashville-in/
LOCATION:Hoosier Hills Rifle and Pistol Club\, 551 Camp Moneto Road\, Nashville\, IN\, 47448\, United States
CATEGORIES:3rd Party Events,Events In Indiana,Revere's Riders,Rifle 125 (hits Count!)
ORGANIZER;CN="Brian H.":MAILTO:IN@reveresriders.org
END:VEVENT
BEGIN:VEVENT
DTSTART;TZID=America/Indiana/Indianapolis:20170923T080000
DTEND;TZID=America/Indiana/Indianapolis:20170924T170000
DTSTAMP:20260424T213844
CREATED:20170815T035800Z
LAST-MODIFIED:20170919T043559Z
UID:1167-1506153600-1506272400@www.pifn.org
SUMMARY:RR--Rifle 125 (Basic Rifle) – Two Day (Bedford\, IN)
DESCRIPTION:Rifle 125 (Basic Rifle) Overview\nPrerequisites: None \nEquipment: Bring 150 to 200 rounds of ammunition per day and a safe rifle.  It is helpful that all ammunition be of the same type (i.e. same weight\, manufacturer\, etc) for this event.  Our volunteers have identified several accessories that may be helpful at this type of event.   Shooting will primarily be at 25 yards.  At some facilities\, it may be possible to move out to longer distances\, but a rimfire rifle should be just fine for all activities. \nOverview:  This our signature offering\, based on traditional American riflecraft that teaches “Hits Count!” It is appropriate for a wide breadth of student skill levels. This course lays a sound foundation for students to shoot groups under time pressure from a variety of practical field positions.  Rifle 125 includes classroom and range time learning to shoot rifles. Students learn: \n\nRules for safe gun handling & range rules\nRifle parts and operation & ammunition\nShooting fundamentals: Five steps to firing each shot\nNatural Point of Aim\nShooting from the prone\, standing and sitting/kneeling positions to include use of the sling\nIntroduction to Sight Adjustments and basic calculation of minutes of angle\n25 Yard “Morgan’s 13” Classifier\n25 Yard Rifle Qualifier\nTwo Day Only:  Intermediate calculation of minutes of angle for precise sight adjustments at all ranges\nTwo Day Only:  Introduction to Field Shooting\, to include basic ballistics and live firing to longer distances (if the range facility permits)\nTwo Day Only:  As time allows\, there may be additional opportunities to engage in challenging competitions to include the Rifle Qualifier\, Classic Carbine Qualification\, Battle Rattle\, and/or Field Shoot\n\nThe Midnight Ride of Paul Revere\nHear the true story of Paul Revere’s famous ride and learn about the events that immediately precipitated the Revolutionary War. Paul Revere did not ride alone – many individuals played crucial roles in the events of April 19th\, 1775. \nThis history presentation begins with alarm riders warning “the Regulars are out!” You’ll hear about the dramatic stand on Lexington Green and the “shots heard ’round the world” at Concord’s North Bridge. The tale concludes with harrowing life-or-death choices made along the 17 mile “battle road.” \nThis exciting tale will be woven throughout the day’s marksmanship events. \nSpecial Information for this Event\nTicket prices include all range fees\, delicious lunch\, snacks and refreshments. \nPotable water and porta-potty on site. Camping available with prior notification. Several local hotels/stores 10 minutes away.
URL:https://www.pifn.org/event/rr-rifle-125-basic-rifle-two-day-bedford-in/
LOCATION:The Bedford Contingent\, 3650 Springville-Judah Road\, Bedford\, IN\, 47421\, United States
CATEGORIES:3rd Party Events,Events In Indiana,Revere's Riders,Rifle 125 (hits Count!)
ORGANIZER;CN="~Rayne~":MAILTO:rayne@reveresriders.org
END:VEVENT
BEGIN:VEVENT
DTSTART;TZID=America/Indiana/Indianapolis:20170910T090000
DTEND;TZID=America/Indiana/Indianapolis:20170910T160000
DTSTAMP:20260424T213844
CREATED:20170815T035800Z
LAST-MODIFIED:20170829T041551Z
UID:1164-1505034000-1505059200@www.pifn.org
SUMMARY:RR--Youth Only: Rifle 125 (Basic Rifle) – One Day (Crawfordsville\, IN)
DESCRIPTION:This will be a special YOUTH ONLY event—thanks for joining us! \nRifle 125 (Basic Rifle) Overview\nPrerequisites: None \nEquipment: Bring 150 to 200 rounds of ammunition per day and a safe rifle. It is helpful that all ammunition be of the same type (i.e. same weight\, manufacturer\, etc) for this event. Our volunteers have identified several accessories that may be helpful at this type of event. Shooting will primarily be at 25 yards. At some facilities\, it may be possible to move out to longer distances\, but a rimfire rifle should be just fine for all activities. \nOverview: This our signature offering\, based on traditional American riflecraft that teaches “Hits Count!” It is appropriate for a wide breadth of student skill levels. This course lays a sound foundation for students to shoot groups under time pressure from a variety of practical field positions. Rifle 125 includes classroom and range time learning to shoot rifles. Students learn: \n\nRules for safe gun handling & range rules\nRifle parts and operation & ammunition\nShooting fundamentals: Five steps to firing each shot\nNatural Point of Aim\nShooting from the prone\, standing and sitting/kneeling positions to include use of the sling\nIntroduction to Sight Adjustments and basic calculation of minutes of angle\n25 Yard “Morgan’s 13” Classifier\n25 Yard Rifle Qualifier\n\nThe Midnight Ride of Paul Revere\nHear the true story of Paul Revere’s famous ride and learn about the events that immediately precipitated the Revolutionary War. Paul Revere did not ride alone – many individuals played crucial roles in the events of April 19th\, 1775. \nThis history presentation begins with alarm riders warning “the Regulars are out!” You’ll hear about the dramatic stand on Lexington Green and the “shots heard ’round the world” at Concord’s North Bridge. The tale concludes with harrowing life-or-death choices made along the 17 mile “battle road.” \nThis exciting tale will be woven throughout the day’s marksmanship events. \nAdditional Event Information\nThis is a YOUTH ONLY (under 18 years of age) event. There will be no event cost or range fee. \n 
URL:https://www.pifn.org/event/rr-youth-only-rifle-125-basic-rifle-one-day-crawfordsville-in/
LOCATION:Crawfordsville Gun Club\, 3225 State Road 47 North\, Crawfordsville\, IN\, 47933\, United States
CATEGORIES:3rd Party Events,Events In Indiana,Revere's Riders,Rifle 125 (hits Count!)
ORGANIZER;CN="Jake Woodcock (308Jake)":MAILTO:jake@reveresriders.org
END:VEVENT
END:VCALENDAR